BEGIN:VCALENDAR
VERSION:2.0
PRODID:-//Squarespace Inc/Squarespace 6//v6//EN
BEGIN:VEVENT
UID:5a9fbccfe4966b2fb9997a36@squarespace.com
DTSTAMP:20190304T224614Z
DTSTART:20190309T013000Z
DTEND:20190309T020000Z
SUMMARY:1 Fintona Place\, Dannemora
GEO:-36.930214;174.917411
LOCATION:1 Fintona Place\, Dannemora\, Auckland\, 2016\, New Zealand
END:VEVENT
END:VCALENDAR
