BEGIN:VCALENDAR
VERSION:2.0
PRODID:-//Squarespace Inc/Squarespace 6//v6//EN
BEGIN:VEVENT
UID:5dd496d943cbf575935aa67d@squarespace.com
DTSTAMP:20191204T231624Z
DTSTART:20191206T220000Z
DTEND:20191206T223000Z
SUMMARY:2/28 Clovelly Road\, Bucklands Beach
GEO:-36.858306;174.903478
LOCATION:2/28 Clovelly Road\, Auckland\, Auckland\, 2012\, New Zealand
END:VEVENT
END:VCALENDAR
