BEGIN:VCALENDAR
VERSION:2.0
PRODID:-//Squarespace Inc/Squarespace 6//v6//EN
BEGIN:VEVENT
UID:5d5f4d22b9fcb1000105c43f@squarespace.com
DTSTAMP:20191003T233303Z
DTSTART:20191005T023000Z
DTEND:20191005T030000Z
SUMMARY:2/63 Hattaway Avenue\, Bucklands Beach
GEO:-36.866056;174.903195
LOCATION:2/63 Hattaway Avenue\, Auckland\, Auckland\, 2012\, New Zealand
END:VEVENT
END:VCALENDAR
