BEGIN:VCALENDAR
VERSION:2.0
PRODID:-//Squarespace Inc/Squarespace 6//v6//EN
BEGIN:VEVENT
UID:5a9fbc48085229fcc9b52285@squarespace.com
DTSTAMP:20180417T231736Z
DTSTART:20180421T010000Z
DTEND:20180421T020000Z
SUMMARY:1/78 Cambridge Terrace
GEO:-36.983674;174.853519
LOCATION:1/78 Cambridge Terrace\, Auckland\, Auckland\, 2025\, New Zealand
END:VEVENT
END:VCALENDAR
