BEGIN:VCALENDAR
VERSION:2.0
PRODID:-//Squarespace Inc/Squarespace 6//v6//EN
BEGIN:VEVENT
UID:5a9fbd1b085229fcc9b53c0c@squarespace.com
DTSTAMP:20180830T001421Z
DTSTART:20180902T010000Z
DTEND:20180902T014500Z
SUMMARY:25 Meadway\, Sunnyhills
GEO:-36.905073;174.888189
LOCATION:25 Meadway\, Auckland\, Auckland\, 2010\, New Zealand
END:VEVENT
END:VCALENDAR
