BEGIN:VCALENDAR
VERSION:2.0
PRODID:-//Squarespace Inc/Squarespace 6//v6//EN
BEGIN:VEVENT
UID:5af8b45c758d4615556b4b8f@squarespace.com
DTSTAMP:20180925T223656Z
DTSTART:20181007T000000Z
DTEND:20181007T004500Z
SUMMARY:25 Meadway\, Sunnyhills
GEO:-36.905073;174.888189
LOCATION:25 Meadway\, Auckland\, Auckland\, 2010\, New Zealand
END:VEVENT
END:VCALENDAR
