BEGIN:VCALENDAR
VERSION:2.0
PRODID:-//Squarespace Inc/Squarespace 6//v6//EN
BEGIN:VEVENT
UID:5b9f15046d2a73605fb79247@squarespace.com
DTSTAMP:20181111T203904Z
DTSTART:20181117T011500Z
DTEND:20181117T020000Z
SUMMARY:2/39 Simmental Crescent\, Somerville
GEO:-36.894344;174.932312
LOCATION:2/39 Simmental Crescent\, Auckland\, Auckland\, 2014\, New Zealand
END:VEVENT
END:VCALENDAR
