BEGIN:VCALENDAR
VERSION:2.0
PRODID:-//Squarespace Inc/Squarespace 6//v6//EN
BEGIN:VEVENT
UID:5acea049575d1f0b6ec85671@squarespace.com
DTSTAMP:20190307T211812Z
DTSTART:20181118T000000Z
DTEND:20181118T004500Z
SUMMARY:52 Earnslaw Crescent\, Flat Bush
GEO:-36.984082;174.90679
LOCATION:52 Earnslaw Crescent\, Auckland\, Auckland\, 2023\, New Zealand
END:VEVENT
END:VCALENDAR
