BEGIN:VCALENDAR
VERSION:2.0
PRODID:-//Squarespace Inc/Squarespace 6//v6//EN
BEGIN:VEVENT
UID:5d5f4d05d20292000167910a@squarespace.com
DTSTAMP:20191003T233333Z
DTSTART:20191005T003000Z
DTEND:20191005T010000Z
SUMMARY:30 Alton Terrace\, Pakuranga Heights
GEO:-36.918163;174.887215
LOCATION:30 Alton Terrace\, Pakuranga Heights\, Auckland\, 2010\, New Zeala
 nd
END:VEVENT
END:VCALENDAR
