BEGIN:VCALENDAR
VERSION:2.0
PRODID:-//Squarespace Inc/Squarespace 6//v6//EN
BEGIN:VEVENT
UID:5cd37d2f53450a096cbd5f25@squarespace.com
DTSTAMP:20190811T225105Z
DTSTART:20190817T000000Z
DTEND:20190817T003000Z
SUMMARY:30 Alton Terrace\, Pakuranga Heights
GEO:-36.918163;174.887215
LOCATION:30 Alton Terrace\, Pakuranga Heights\, Auckland\, 2010\, New Zeala
 nd
END:VEVENT
END:VCALENDAR
