BEGIN:VCALENDAR
VERSION:2.0
PRODID:-//Squarespace Inc/Squarespace 6//v6//EN
BEGIN:VEVENT
UID:5dd49a13ebd9bd1394148924@squarespace.com
DTSTAMP:20191120T014933Z
DTSTART:20191123T010000Z
DTEND:20191123T013000Z
SUMMARY:34 Papareia Road\, Karaka
GEO:-37.084251;174.926497
LOCATION:34 Papareia Road\, Papakura\, Auckland\, 2113\, New Zealand
END:VEVENT
END:VCALENDAR
