BEGIN:VCALENDAR
VERSION:2.0
PRODID:-//Squarespace Inc/Squarespace 6//v6//EN
BEGIN:VEVENT
UID:5dd49714e9f3c3799422b341@squarespace.com
DTSTAMP:20191211T225921Z
DTSTART:20191214T010000Z
DTEND:20191214T013000Z
SUMMARY:34 Papareia Road\, Karaka
GEO:-37.084251;174.926497
LOCATION:34 Papareia Road\, Papakura\, Auckland\, 2113\, New Zealand
END:VEVENT
END:VCALENDAR
