BEGIN:VCALENDAR
VERSION:2.0
PRODID:-//Squarespace Inc/Squarespace 6//v6//EN
BEGIN:VEVENT
UID:5ad68090758d46bb49ceed59@squarespace.com
DTSTAMP:20191003T233343Z
DTSTART:20191005T000000Z
DTEND:20191005T003000Z
SUMMARY:2/66 The Parade\, Bucklands Beach
GEO:-36.87224;174.905757
LOCATION:66 The Parade\, Bucklands Beach\, Auckland\, 2012\, New Zealand
END:VEVENT
END:VCALENDAR
